BEGIN:VCALENDAR
VERSION:2.0
PRODID:-//Foss &amp; Co - ECPv6.15.20//NONSGML v1.0//EN
CALSCALE:GREGORIAN
METHOD:PUBLISH
X-ORIGINAL-URL:https://fossandco.com
X-WR-CALDESC:Events for Foss &amp; Co
REFRESH-INTERVAL;VALUE=DURATION:PT1H
X-Robots-Tag:noindex
X-PUBLISHED-TTL:PT1H
BEGIN:VTIMEZONE
TZID:UTC
BEGIN:STANDARD
TZOFFSETFROM:+0000
TZOFFSETTO:+0000
TZNAME:UTC
DTSTART:20250101T000000
END:STANDARD
END:VTIMEZONE
BEGIN:VEVENT
DTSTART;VALUE=DATE:20260528
DTEND;VALUE=DATE:20260530
DTSTAMP:20260424T084301
CREATED:20260413T173943Z
LAST-MODIFIED:20260413T174007Z
UID:5941-1779926400-1780099199@fossandco.com
SUMMARY:Fed Bar Insurance Tax Seminar
DESCRIPTION:Professionals from around the United States convene in Washington\, D.C.\, for discussions on current tax topics with industry experts\, advisors\, consultants\, and government officials. Attendees will receive the latest tax news and perspectives on IRS guidance that affect the insurance industry\, with panels covering various viewpoints on relevant and timely tax issues. \nAttendees: \n– Olivia Park \n– Kevin Haley \n– Drew Goldman \n– Frank Ronchetti \n– Jennifer Pruett \n\n\n  \n\n\n\nFirst Name\n\n\n \nLast Name\n\n\n \nEmail\n\n\n \nState\n—Please choose an option—ALAKAZARCACOCTDEFLGAHIIDILINIAKSKYLAMEMDMAMIMNMSMOMTNENVNHNJNMNYNCNDOHOKORPARISCSDTNTXUTVTVAWAWVWIWY\n\n \nTitle\n\n\n \nRole\n—Please choose an option—Renewable Energy DeveloperHistoric Preservation DeveloperTax Credit Investor/BuyerStudentProfessional Services ProviderMediaOther\n\n \nCompany\n\n\n \nYour Message
URL:https://fossandco.com/event/fed-bar-insurance-tax-seminar-2/
LOCATION:Washington D.C.
END:VEVENT
BEGIN:VEVENT
DTSTART;VALUE=DATE:20260601
DTEND;VALUE=DATE:20260603
DTSTAMP:20260424T084301
CREATED:20260304T195123Z
LAST-MODIFIED:20260413T174110Z
UID:5881-1780272000-1780444799@fossandco.com
SUMMARY:TEI Region 2
DESCRIPTION:The 2026 TEI Region 2 Tax Forum will bring together in‑house tax professionals from across the region for 1.5 days of technical learning\, professional development\, and peer networking. Hosted at the Borgata Hotel in Atlantic City. \nAttendees: \n– Olivia Park \n\n\n  \n\n\n\nFirst Name\n\n\n \nLast Name\n\n\n \nEmail\n\n\n \nState\n—Please choose an option—ALAKAZARCACOCTDEFLGAHIIDILINIAKSKYLAMEMDMAMIMNMSMOMTNENVNHNJNMNYNCNDOHOKORPARISCSDTNTXUTVTVAWAWVWIWY\n\n \nTitle\n\n\n \nRole\n—Please choose an option—Renewable Energy DeveloperHistoric Preservation DeveloperTax Credit Investor/BuyerStudentProfessional Services ProviderMediaOther\n\n \nCompany\n\n\n \nYour Message
URL:https://fossandco.com/event/tei-region-2/
LOCATION:Atlantic City\, NJ
END:VEVENT
BEGIN:VEVENT
DTSTART;VALUE=DATE:20260603
DTEND;VALUE=DATE:20260604
DTSTAMP:20260424T084301
CREATED:20260423T212343Z
LAST-MODIFIED:20260423T212711Z
UID:5966-1780444800-1780531199@fossandco.com
SUMMARY:Infralogic Investors Forum New York
DESCRIPTION:The Infralogic Investors Forum New York brings together senior leaders from across the US infrastructure market to examine the opportunities and pressures shaping investment strategy in 2026. The agenda focuses on where capital is moving\, which opportunities are emerging\, and how investors can navigate shifting economic and policy conditions to stay ahead. \nGain strategic insight into fundraising trends\, dealmaking momentum\, and the evolving landscape across energy transition\, digital infrastructure\, transportation\, and essential services. It is a concentrated gathering of fund managers\, institutional investors\, lenders\, strategics\, and advisors\, the people who influence where the market goes next. \nAttendees:\n– Olivia Park\n\n\n\n  \n\n\n\nFirst Name\n\n\n \nLast Name\n\n\n \nEmail\n\n\n \nState\n—Please choose an option—ALAKAZARCACOCTDEFLGAHIIDILINIAKSKYLAMEMDMAMIMNMSMOMTNENVNHNJNMNYNCNDOHOKORPARISCSDTNTXUTVTVAWAWVWIWY\n\n \nTitle\n\n\n \nRole\n—Please choose an option—Renewable Energy DeveloperHistoric Preservation DeveloperTax Credit Investor/BuyerStudentProfessional Services ProviderMediaOther\n\n \nCompany\n\n\n \nYour Message
URL:https://fossandco.com/event/infralogic-investors-forum-new-york/
LOCATION:New York\, NY
END:VEVENT
BEGIN:VEVENT
DTSTART;VALUE=DATE:20260610
DTEND;VALUE=DATE:20260615
DTSTAMP:20260424T084301
CREATED:20260318T183645Z
LAST-MODIFIED:20260423T202229Z
UID:5901-1781049600-1781481599@fossandco.com
SUMMARY:TEI Region 8
DESCRIPTION:Connect with Foss & Company at the TEI Region 8 event in Hilton Head Island SC\, and meet leading tax executives from the Atlanta\, Carolinas\, Florida\, Nashville\, and Virginia chapters. \n\n\n\n\n\n\n\nAttendees: \n– Drew Goldman \n  \n\n\n  \n\n\n\nFirst Name\n\n\n \nLast Name\n\n\n \nEmail\n\n\n \nState\n—Please choose an option—ALAKAZARCACOCTDEFLGAHIIDILINIAKSKYLAMEMDMAMIMNMSMOMTNENVNHNJNMNYNCNDOHOKORPARISCSDTNTXUTVTVAWAWVWIWY\n\n \nTitle\n\n\n \nRole\n—Please choose an option—Renewable Energy DeveloperHistoric Preservation DeveloperTax Credit Investor/BuyerStudentProfessional Services ProviderMediaOther\n\n \nCompany\n\n\n \nYour Message
URL:https://fossandco.com/event/tei-region-8/
LOCATION:The Westin Hilton Head Island Resort & Spa\, 2 Grasslawn Ave Hilton Head Island\, Hilton Head\, SC\, 29928
END:VEVENT
BEGIN:VEVENT
DTSTART;VALUE=DATE:20260612
DTEND;VALUE=DATE:20260613
DTSTAMP:20260424T084301
CREATED:20260423T202714Z
LAST-MODIFIED:20260423T202714Z
UID:5961-1781222400-1781308799@fossandco.com
SUMMARY:IPED Annual Historic Tax Credit Summit
DESCRIPTION:Federal and state Historic Tax Credits (HTCs) have become a critical tool in stimulating private investment in our communities. Adaptive reuse of our older buildings is inherently green\, mixed-use friendly\, and smart-growth oriented. \nConnect with investors\, developers and practitioners on the front lines of today’s HTC transactions as we gather to take a comprehensive look at the current environment at IPED Annual Historic Tax Credit Summit. \n  \nAttendees: \n– Jordyn Thies \n– John Sorel \n\n\n  \n\n\n\nFirst Name\n\n\n \nLast Name\n\n\n \nEmail\n\n\n \nState\n—Please choose an option—ALAKAZARCACOCTDEFLGAHIIDILINIAKSKYLAMEMDMAMIMNMSMOMTNENVNHNJNMNYNCNDOHOKORPARISCSDTNTXUTVTVAWAWVWIWY\n\n \nTitle\n\n\n \nRole\n—Please choose an option—Renewable Energy DeveloperHistoric Preservation DeveloperTax Credit Investor/BuyerStudentProfessional Services ProviderMediaOther\n\n \nCompany\n\n\n \nYour Message
URL:https://fossandco.com/event/iped-annual-historic-tax-credit-summit-3/
LOCATION:Washington D.C.
END:VEVENT
BEGIN:VEVENT
DTSTART;VALUE=DATE:20260616
DTEND;VALUE=DATE:20260618
DTSTAMP:20260424T084301
CREATED:20260304T195350Z
LAST-MODIFIED:20260330T163244Z
UID:5884-1781568000-1781740799@fossandco.com
SUMMARY:Infocast Energy Storage F&I Summit
DESCRIPTION:Energy Storage Finance & Investment brings together the entire storage community\, including the country’s leading developers\, tax equity investors\, capital and debt providers\, tax advisors\, market analysts\, offtakers\, and more to provide a deep dive into navigating the uncertainties and moving forward with cutting-edge approaches for finance and investment across the full range of markets and business strategies in this dynamic space. \nAttendees: \n– Bryen Alperin \n– Claire Behar \n– Trent Douglass \n– Harry Hegeman \n\n\n  \n\n\n\nFirst Name\n\n\n \nLast Name\n\n\n \nEmail\n\n\n \nState\n—Please choose an option—ALAKAZARCACOCTDEFLGAHIIDILINIAKSKYLAMEMDMAMIMNMSMOMTNENVNHNJNMNYNCNDOHOKORPARISCSDTNTXUTVTVAWAWVWIWY\n\n \nTitle\n\n\n \nRole\n—Please choose an option—Renewable Energy DeveloperHistoric Preservation DeveloperTax Credit Investor/BuyerStudentProfessional Services ProviderMediaOther\n\n \nCompany\n\n\n \nYour Message\n\n\n \n\n\n \n\n\n\n  \n 
URL:https://fossandco.com/event/infocast-energy-storage-fi-summit/
LOCATION:San Diego\, CA
END:VEVENT
BEGIN:VEVENT
DTSTART;VALUE=DATE:20260623
DTEND;VALUE=DATE:20260625
DTSTAMP:20260424T084301
CREATED:20260423T203206Z
LAST-MODIFIED:20260423T203250Z
UID:5963-1782172800-1782345599@fossandco.com
SUMMARY:SEIA Finance\, Tax & Buyers Seminar
DESCRIPTION:Explore the biggest challenges and opportunities to accelerate clean energy growth\, and take advantage of high-level networking opportunities with top solar energy buyers and finance executives. \nDevelopers\, service providers\, Fortune 500 companies\, and mid-market commercial entities will explore critical trends\, challenges\, and solutions for expanding commercial and industrial use of clean energy. The top solar and finance executives will dive into the biggest challenges and opportunities around leveraging debt and equity\, and new and innovative sources of capital. \nTrent Douglass will be taking part in a panel on Day 1 from 4:30 PM – 5:30 PM named “The New Tax Equity Market – How Hybrid Models are Altering the Status Quo”. \nAttendees:\n– Trent Douglass \n  \n\n\n  \n\n\n\nFirst Name\n\n\n \nLast Name\n\n\n \nEmail\n\n\n \nState\n—Please choose an option—ALAKAZARCACOCTDEFLGAHIIDILINIAKSKYLAMEMDMAMIMNMSMOMTNENVNHNJNMNYNCNDOHOKORPARISCSDTNTXUTVTVAWAWVWIWY\n\n \nTitle\n\n\n \nRole\n—Please choose an option—Renewable Energy DeveloperHistoric Preservation DeveloperTax Credit Investor/BuyerStudentProfessional Services ProviderMediaOther\n\n \nCompany\n\n\n \nYour Message
URL:https://fossandco.com/event/seia-finance-tax-buyers-seminar-2/
LOCATION:New York\, NY
END:VEVENT
BEGIN:VEVENT
DTSTART;VALUE=DATE:20260626
DTEND;VALUE=DATE:20260627
DTSTAMP:20260424T084301
CREATED:20251125T171633Z
LAST-MODIFIED:20260304T195551Z
UID:5769-1782432000-1782518399@fossandco.com
SUMMARY:Proximo Congress 2026: US Energy & Infrastructure Finance
DESCRIPTION:The Proximo Congress 2026 returns\, uniting leading minds in power\, Infrastructure\, decarbonization\, and digital Infrastructure. From origination and structuring to the convergence of asset classes\, this event will serve as a catalyst for market-moving trends and collaborations across vital sectors. Join us to double down on the effectiveness of your project finance teams’ business development and deal-sourcing efforts. \nMaximise origination opportunities: In the vibrant city of Nashville\, you’ll experience our Proximo Industry Awards Ceremony\, Cocktail Reception\, and an engaging agenda featuring globally recognised experts. With just one trip\, you’ll immerse yourself in thought leadership and return to the office brimming with innovative ideas. \nConnect with the right people\, all in one-business trip: We curate event attendee lists with the most active dealmakers in US infrastructure and power finance plus our dedicated networking concierge provides personalized introductions to your most compatible partners \n\n\n\n\n\n  \n\n\n\nFirst Name\n\n\n \nLast Name\n\n\n \nEmail\n\n\n \nState\n—Please choose an option—ALAKAZARCACOCTDEFLGAHIIDILINIAKSKYLAMEMDMAMIMNMSMOMTNENVNHNJNMNYNCNDOHOKORPARISCSDTNTXUTVTVAWAWVWIWY\n\n \nTitle\n\n\n \nRole\n—Please choose an option—Renewable Energy DeveloperHistoric Preservation DeveloperTax Credit Investor/BuyerStudentProfessional Services ProviderMediaOther\n\n \nCompany\n\n\n \nYour Message
URL:https://fossandco.com/event/proximo-congress-2026-us-energy-infrastructure-finance/
LOCATION:Nashville\, TN
END:VEVENT
END:VCALENDAR