BEGIN:VCALENDAR
VERSION:2.0
PRODID:-//Foss &amp; Co - ECPv6.15.20//NONSGML v1.0//EN
CALSCALE:GREGORIAN
METHOD:PUBLISH
X-ORIGINAL-URL:https://fossandco.com
X-WR-CALDESC:Events for Foss &amp; Co
REFRESH-INTERVAL;VALUE=DURATION:PT1H
X-Robots-Tag:noindex
X-PUBLISHED-TTL:PT1H
BEGIN:VTIMEZONE
TZID:UTC
BEGIN:STANDARD
TZOFFSETFROM:+0000
TZOFFSETTO:+0000
TZNAME:UTC
DTSTART:20250101T000000
END:STANDARD
END:VTIMEZONE
BEGIN:VEVENT
DTSTART;VALUE=DATE:20260429
DTEND;VALUE=DATE:20260501
DTSTAMP:20260422T120407
CREATED:20260410T210128Z
LAST-MODIFIED:20260410T210128Z
UID:5938-1777420800-1777593599@fossandco.com
SUMMARY:WoodMac Solar Energy Storage Summit
DESCRIPTION:The US is seeing record demand growth for low carbon energy from the boom in data center development and reshoring of manufacturing. At the same time\, there are uncertainties for the energy sector as the Trump administration looks to redress the United States’ trade relations with the world and potentially renegotiate the terms of the IRA. Leaders in the US solar and storage industries will need to make skilful strategic decisions to take advantage of the opportunities and overcome the challenges ahead. \nAttending the Solar & Energy Storage Summit will provide the opportunity to develop relationships with decision makers in technology\, finance\, operations\, development\, engineering\, origination\, and procurement. \nAttendees: \n– Claire Behar \n– Jack Courtney \n\n\n  \n\n\n\nFirst Name\n\n\n \nLast Name\n\n\n \nEmail\n\n\n \nState\n—Please choose an option—ALAKAZARCACOCTDEFLGAHIIDILINIAKSKYLAMEMDMAMIMNMSMOMTNENVNHNJNMNYNCNDOHOKORPARISCSDTNTXUTVTVAWAWVWIWY\n\n \nTitle\n\n\n \nRole\n—Please choose an option—Renewable Energy DeveloperHistoric Preservation DeveloperTax Credit Investor/BuyerStudentProfessional Services ProviderMediaOther\n\n \nCompany\n\n\n \nYour Message
URL:https://fossandco.com/event/woodmac-solar-energy-storage-summit/
LOCATION:Denver\, CO
END:VEVENT
END:VCALENDAR