BEGIN:VCALENDAR
VERSION:2.0
PRODID:-//Foss &amp; Co - ECPv6.15.20//NONSGML v1.0//EN
CALSCALE:GREGORIAN
METHOD:PUBLISH
X-ORIGINAL-URL:https://fossandco.com
X-WR-CALDESC:Events for Foss &amp; Co
REFRESH-INTERVAL;VALUE=DURATION:PT1H
X-Robots-Tag:noindex
X-PUBLISHED-TTL:PT1H
BEGIN:VTIMEZONE
TZID:UTC
BEGIN:STANDARD
TZOFFSETFROM:+0000
TZOFFSETTO:+0000
TZNAME:UTC
DTSTART:20250101T000000
END:STANDARD
END:VTIMEZONE
BEGIN:VEVENT
DTSTART;VALUE=DATE:20260427
DTEND;VALUE=DATE:20260429
DTSTAMP:20260420T135033
CREATED:20251125T170541Z
LAST-MODIFIED:20260413T181121Z
UID:5764-1777248000-1777420799@fossandco.com
SUMMARY:NPM Events US Power & Data Center Development Forum 2026
DESCRIPTION:This year’s forum builds on the legacy of NPM’s US Development & Finance Forum\, expanding its focus to explore the convergence of power infrastructure\, renewable energy\, and data center development. Expect 300+ senior-level developers\, investors\, lenders\, advisors\, corporates\, and utilities for a day of targeted networking and deep-dive discussions with industry leaders shaping the future of energy and data centers. \nThis promises to be an engaging\, content-rich\, and networking-driven event for professionals at the intersection of renewable energy\, infrastructure finance\, and data center development. \nAttendees: \n– Claire Behar \n– Annie Armhein \n– Lewis Fitzpatrick \n\n\n  \n\n\n\nFirst Name\n\n\n \nLast Name\n\n\n \nEmail\n\n\n \nState\n—Please choose an option—ALAKAZARCACOCTDEFLGAHIIDILINIAKSKYLAMEMDMAMIMNMSMOMTNENVNHNJNMNYNCNDOHOKORPARISCSDTNTXUTVTVAWAWVWIWY\n\n \nTitle\n\n\n \nRole\n—Please choose an option—Renewable Energy DeveloperHistoric Preservation DeveloperTax Credit Investor/BuyerStudentProfessional Services ProviderMediaOther\n\n \nCompany\n\n\n \nYour Message
URL:https://fossandco.com/event/npm-events-us-power-data-center-development-forum-2026/
LOCATION:New York
END:VEVENT
END:VCALENDAR