BEGIN:VCALENDAR
VERSION:2.0
PRODID:-//Foss &amp; Co - ECPv6.15.20//NONSGML v1.0//EN
CALSCALE:GREGORIAN
METHOD:PUBLISH
X-ORIGINAL-URL:https://fossandco.com
X-WR-CALDESC:Events for Foss &amp; Co
REFRESH-INTERVAL;VALUE=DURATION:PT1H
X-Robots-Tag:noindex
X-PUBLISHED-TTL:PT1H
BEGIN:VTIMEZONE
TZID:UTC
BEGIN:STANDARD
TZOFFSETFROM:+0000
TZOFFSETTO:+0000
TZNAME:UTC
DTSTART:20250101T000000
END:STANDARD
END:VTIMEZONE
BEGIN:VEVENT
DTSTART;VALUE=DATE:20260422
DTEND;VALUE=DATE:20260425
DTSTAMP:20260420T135046
CREATED:20260318T191138Z
LAST-MODIFIED:20260330T162358Z
UID:5902-1776816000-1777075199@fossandco.com
SUMMARY:Renewable Natural Gas Coalition RNG Summit
DESCRIPTION:RNG SUMMIT is a member-only\, virtual event that features and brings together online industry thought leaders\, lawmakers and regulators from across federal\, state and provincial government in the United States and Canada. \nTheir program provides a portal for member registrants to interact with speakers and benefit from elevated and real-time perspectives on RNG policy\, progress and possibilities impacting current and prospective markets for our industry’s products and services. \n  \nAttendees: \n– Paddy O’Brien \n\n\n  \n\n\n\nFirst Name\n\n\n \nLast Name\n\n\n \nEmail\n\n\n \nState\n—Please choose an option—ALAKAZARCACOCTDEFLGAHIIDILINIAKSKYLAMEMDMAMIMNMSMOMTNENVNHNJNMNYNCNDOHOKORPARISCSDTNTXUTVTVAWAWVWIWY\n\n \nTitle\n\n\n \nRole\n—Please choose an option—Renewable Energy DeveloperHistoric Preservation DeveloperTax Credit Investor/BuyerStudentProfessional Services ProviderMediaOther\n\n \nCompany\n\n\n \nYour Message
URL:https://fossandco.com/event/renewable-natural-gas-coalition-rng-summit/
END:VEVENT
END:VCALENDAR