BEGIN:VCALENDAR
VERSION:2.0
PRODID:-//Foss &amp; Co - ECPv6.15.20//NONSGML v1.0//EN
CALSCALE:GREGORIAN
METHOD:PUBLISH
X-WR-CALNAME:Foss &amp; Co
X-ORIGINAL-URL:https://fossandco.com
X-WR-CALDESC:Events for Foss &amp; Co
REFRESH-INTERVAL;VALUE=DURATION:PT1H
X-Robots-Tag:noindex
X-PUBLISHED-TTL:PT1H
BEGIN:VTIMEZONE
TZID:UTC
BEGIN:STANDARD
TZOFFSETFROM:+0000
TZOFFSETTO:+0000
TZNAME:UTC
DTSTART:20230101T000000
END:STANDARD
END:VTIMEZONE
BEGIN:VEVENT
DTSTART;VALUE=DATE:20241112
DTEND;VALUE=DATE:20241116
DTSTAMP:20260421T101259
CREATED:20241002T210947Z
LAST-MODIFIED:20241002T210959Z
UID:4859-1731369600-1731715199@fossandco.com
SUMMARY:2024 National Premium Tax Conference
DESCRIPTION:The National Premium Tax Conference focuses on the unique state imposed premium and retaliatory tax. Its purpose is to educate insurance tax personnel\, from the preparer to the planner\, about this method of state taxation imposed only on the insurance industry. This is achieved by holding an annual conference where seasoned insurance tax professionals volunteer to teach classes and serve as panelists in discussion sessions. In response to industry changes and conference evaluations\, the Steering Committee has changed the conference format. \n\n\n\n\n\n\n\n\n\n\nAttendees: Drew Goldman\, Kip Kimble and Tim Stegner\n\n\n\n\n\n\n\n\n\nError: Contact form not found.
URL:https://fossandco.com/event/2024-national-premium-tax-conference/
LOCATION:HILTON FORT LAUDERDALE MARINA\, 1881 SE 17th St\, Fort Lauderdale\, FL\, 33316\, United States
END:VEVENT
END:VCALENDAR